BEGIN:VCALENDAR
VERSION:2.0
PRODID:-//ChamberMaster//Event Calendar 2.0//EN
METHOD:PUBLISH
X-PUBLISHED-TTL:P1H
REFRESH-INTERVAL:P1H
CALSCALE:GREGORIAN
BEGIN:VTIMEZONE
TZID:America/Chicago
BEGIN:DAYLIGHT
RRULE:FREQ=YEARLY;BYMONTH=3;BYDAY=2SU
DTSTART:20070101T000000
TZOFFSETFROM:-0600
TZOFFSETTO:-0500
TZNAME:Central Daylight Time
END:DAYLIGHT
BEGIN:STANDARD
RRULE:FREQ=YEARLY;BYMONTH=11;BYDAY=1SU
DTSTART:20070101T000000
TZOFFSETFROM:-0500
TZOFFSETTO:-0600
TZNAME:Central Standard Time
END:STANDARD
END:VTIMEZONE
BEGIN:VEVENT
DTSTART;TZID=America/Chicago:20260513T180000
DTEND;TZID=America/Chicago:20260513T193000
X-MICROSOFT-CDO-ALLDAYEVENT:FALSE
SUMMARY:Building Websites Smarter with AI
DESCRIPTION:Discover how AI can streamline the way you build and manage WordPress sites. \n\nPatrick Garman Owner of Midsize will present \n\nWhether you're writing custom code or building with plugins and page builders\, AI tools can seriously speed up the way you work. This session is a hands-on look at how to put them to use in your WordPress workflow. \n\nWe'll cover everything from using AI to generate and debug code\, to automating the repetitive stuff that eats up your day. You don't need to be a full-time developer to get something out of this - if you build or work on WordPress sites in any capacity\, there's something here for you. \n\nWhat we'll cover: \n\nAI coding tools: GitHub Copilot\, Claude\, Cursor\, and others \n\nUsing AI to write and troubleshoot PHP\, JS\, and CSS \n\nGenerating content and layouts faster with AI \n\nAutomating repetitive WordPress tasks \n\nWhen to trust AI output and when to double-check it \n\nLive demo and Q&A \n\nPlease note the location change! Mindsize will now host our meet up permanently! We thank them for their generosity. \n\nJoin us for our upcoming WordPress Illinois meetup! Co-organized by Web Services and Web Professionals Global
X-ALT-DESC;FMTTYPE=text/html:Discover how AI can streamline the way you build and manage WordPress sites. \n\nPatrick Garman Owner of Midsize will present \n\nWhether you're writing custom code or building with plugins and page builders\, AI tools can seriously speed up the way you work. This session is a hands-on look at how to put them to use in your WordPress workflow. \n\nWe'll cover everything from using AI to generate and debug code\, to automating the repetitive stuff that eats up your day. You don't need to be a full-time developer to get something out of this - if you build or work on WordPress sites in any capacity\, there's something here for you. \n\nWhat we'll cover: \n\nAI coding tools: GitHub Copilot\, Claude\, Cursor\, and others \n\nUsing AI to write and troubleshoot PHP\, JS\, and CSS \n\nGenerating content and layouts faster with AI \n\nAutomating repetitive WordPress tasks \n\nWhen to trust AI output and when to double-check it \n\nLive demo and Q&A \n\nPlease note the location change! Mindsize will now host our meet up permanently! We thank them for their generosity. \n\nJoin us for our upcoming WordPress Illinois meetup! Co-organized by Web Services and Web Professionals Global
LOCATION:512 High Point Lane East Peoria IL
UID:e.4672.1435238
SEQUENCE:3
DTSTAMP:20260423T172421Z
URL:https://thepeoriaareachamberofcommerce.growthzoneapp.com/calendar/Details/building-websites-smarter-with-ai-1698883?sourceTypeId=Hub
END:VEVENT
END:VCALENDAR
